BEGIN:VCALENDAR
VERSION:2.0
PRODID:-//Smučarsko dru&scaron;tvo STRAHOVICA - ECPv6.13.0//NONSGML v1.0//EN
CALSCALE:GREGORIAN
METHOD:PUBLISH
X-ORIGINAL-URL:https://www.strahovica.si
X-WR-CALDESC:Events for Smučarsko dru&scaron;tvo STRAHOVICA
REFRESH-INTERVAL;VALUE=DURATION:PT1H
X-Robots-Tag:noindex
X-PUBLISHED-TTL:PT1H
BEGIN:VTIMEZONE
TZID:Europe/Helsinki
BEGIN:DAYLIGHT
TZOFFSETFROM:+0200
TZOFFSETTO:+0300
TZNAME:EEST
DTSTART:20200329T010000
END:DAYLIGHT
BEGIN:STANDARD
TZOFFSETFROM:+0300
TZOFFSETTO:+0200
TZNAME:EET
DTSTART:20201025T010000
END:STANDARD
END:VTIMEZONE
BEGIN:VEVENT
DTSTART;TZID=Europe/Helsinki:20201008T080000
DTEND;TZID=Europe/Helsinki:20201008T170000
DTSTAMP:20260425T133338
CREATED:20201008T192149Z
LAST-MODIFIED:20201028T204415Z
UID:1516-1602144000-1602176400@www.strahovica.si
SUMMARY:5. Jesenski izlet
DESCRIPTION:Pred približno mesecem dni\, smo v razpisu 5. Jesenskega izleta SD Strahovica dodali\, da bo izlet v primeru poslabšanja epidemiološke slike odpadel – in da ga bomo shranili za naslednje leto. \nTočno to se je na žalost tudi zgodilo. Trenutno stanje v zvezi z covid-19 ni dobro\, tudi napovedi niso nič posebno obetavne\, prej nasprotno. Zato smo se odločili letošnji izlet prestaviti na naslednjo jesen. \nHvala lepa vsem\, ki ste se na razpis prijavili – se srečamo naslednje leto! \nOrganizacijska ekipa v imenu SD Strahovica \nVeč o novici na povezavi: https://www.strahovica.si/uncategorized/5-jesenski-izlet-sd-strahovica-odpovedan-prelozen-na-naslednje-leto/
URL:https://www.strahovica.si/events/5-jesenski-izlet/
LOCATION:Vodice
END:VEVENT
END:VCALENDAR