BEGIN:VCALENDAR
VERSION:2.0
PRODID:-//Smučarsko dru&scaron;tvo STRAHOVICA - ECPv6.13.0//NONSGML v1.0//EN
CALSCALE:GREGORIAN
METHOD:PUBLISH
X-ORIGINAL-URL:https://www.strahovica.si
X-WR-CALDESC:Events for Smučarsko dru&scaron;tvo STRAHOVICA
REFRESH-INTERVAL;VALUE=DURATION:PT1H
X-Robots-Tag:noindex
X-PUBLISHED-TTL:PT1H
BEGIN:VTIMEZONE
TZID:Europe/Helsinki
BEGIN:DAYLIGHT
TZOFFSETFROM:+0200
TZOFFSETTO:+0300
TZNAME:EEST
DTSTART:20240331T010000
END:DAYLIGHT
BEGIN:STANDARD
TZOFFSETFROM:+0300
TZOFFSETTO:+0200
TZNAME:EET
DTSTART:20241027T010000
END:STANDARD
END:VTIMEZONE
BEGIN:VEVENT
DTSTART;TZID=Europe/Helsinki:20240212T190000
DTEND;TZID=Europe/Helsinki:20240212T203000
DTSTAMP:20260422T233130
CREATED:20240210T184822Z
LAST-MODIFIED:20240210T184822Z
UID:5976-1707764400-1707769800@www.strahovica.si
SUMMARY:Odbojka
DESCRIPTION:
URL:https://www.strahovica.si/events/odbojka/
LOCATION:Vodice
ATTACH;FMTTYPE=image/jpeg:https://www.strahovica.si/wp-content/uploads/2022/11/index.jpg
END:VEVENT
BEGIN:VEVENT
DTSTART;TZID=Europe/Helsinki:20240217T090000
DTEND;TZID=Europe/Helsinki:20240220T130000
DTSTAMP:20260422T233130
CREATED:20240210T182234Z
LAST-MODIFIED:20240210T183145Z
UID:5965-1708160400-1708434000@www.strahovica.si
SUMMARY:Smučarski tečaj februar 2024
DESCRIPTION:
URL:https://www.strahovica.si/events/smucarski-tecaj-februar-2024/
LOCATION:Vodice
ATTACH;FMTTYPE=image/png:https://www.strahovica.si/wp-content/uploads/2024/01/vjlddstc.png
END:VEVENT
BEGIN:VEVENT
DTSTART;TZID=Europe/Helsinki:20240226T190000
DTEND;TZID=Europe/Helsinki:20240226T203000
DTSTAMP:20260422T233130
CREATED:20240210T185024Z
LAST-MODIFIED:20240210T185024Z
UID:5981-1708974000-1708979400@www.strahovica.si
SUMMARY:Odbojka
DESCRIPTION:
URL:https://www.strahovica.si/events/odbojka-3/
LOCATION:Vodice
ATTACH;FMTTYPE=image/jpeg:https://www.strahovica.si/wp-content/uploads/2022/11/index.jpg
END:VEVENT
END:VCALENDAR