BEGIN:VCALENDAR
VERSION:2.0
PRODID:-//Smučarsko dru&scaron;tvo STRAHOVICA - ECPv6.13.0//NONSGML v1.0//EN
CALSCALE:GREGORIAN
METHOD:PUBLISH
X-ORIGINAL-URL:https://www.strahovica.si
X-WR-CALDESC:Events for Smučarsko dru&scaron;tvo STRAHOVICA
REFRESH-INTERVAL;VALUE=DURATION:PT1H
X-Robots-Tag:noindex
X-PUBLISHED-TTL:PT1H
BEGIN:VTIMEZONE
TZID:Europe/Helsinki
BEGIN:DAYLIGHT
TZOFFSETFROM:+0200
TZOFFSETTO:+0300
TZNAME:EEST
DTSTART:20240331T010000
END:DAYLIGHT
BEGIN:STANDARD
TZOFFSETFROM:+0300
TZOFFSETTO:+0200
TZNAME:EET
DTSTART:20241027T010000
END:STANDARD
END:VTIMEZONE
BEGIN:VEVENT
DTSTART;TZID=Europe/Helsinki:20240302T090000
DTEND;TZID=Europe/Helsinki:20240302T170000
DTSTAMP:20260422T213703
CREATED:20240210T183804Z
LAST-MODIFIED:20240210T183804Z
UID:5973-1709370000-1709398800@www.strahovica.si
SUMMARY:Zimski dan v Katschberg
DESCRIPTION:
URL:https://www.strahovica.si/events/zimski-dan-v-katschberg/
LOCATION:Vodice
ATTACH;FMTTYPE=image/jpeg:https://www.strahovica.si/wp-content/uploads/2024/02/Place-Katschberg-19021.jpg
END:VEVENT
BEGIN:VEVENT
DTSTART;TZID=Europe/Helsinki:20240304T190000
DTEND;TZID=Europe/Helsinki:20240304T203000
DTSTAMP:20260422T213703
CREATED:20240210T184924Z
LAST-MODIFIED:20240210T185055Z
UID:5978-1709578800-1709584200@www.strahovica.si
SUMMARY:Odbojka
DESCRIPTION:
URL:https://www.strahovica.si/events/odbojka-2/
LOCATION:Vodice
ATTACH;FMTTYPE=image/jpeg:https://www.strahovica.si/wp-content/uploads/2022/11/index.jpg
END:VEVENT
BEGIN:VEVENT
DTSTART;TZID=Europe/Helsinki:20240311T190000
DTEND;TZID=Europe/Helsinki:20240311T203000
DTSTAMP:20260422T213703
CREATED:20240210T185240Z
LAST-MODIFIED:20240210T185240Z
UID:5983-1710183600-1710189000@www.strahovica.si
SUMMARY:Odbojka
DESCRIPTION:
URL:https://www.strahovica.si/events/odbojka-4/
LOCATION:Vodice
ATTACH;FMTTYPE=image/jpeg:https://www.strahovica.si/wp-content/uploads/2022/11/index.jpg
END:VEVENT
BEGIN:VEVENT
DTSTART;TZID=Europe/Helsinki:20240318T190000
DTEND;TZID=Europe/Helsinki:20240318T203000
DTSTAMP:20260422T213703
CREATED:20240210T185448Z
LAST-MODIFIED:20240210T185448Z
UID:5987-1710788400-1710793800@www.strahovica.si
SUMMARY:Odbojka
DESCRIPTION:
URL:https://www.strahovica.si/events/odbojka-6/
LOCATION:Vodice
ATTACH;FMTTYPE=image/jpeg:https://www.strahovica.si/wp-content/uploads/2022/11/index.jpg
END:VEVENT
BEGIN:VEVENT
DTSTART;TZID=Europe/Helsinki:20240325T190000
DTEND;TZID=Europe/Helsinki:20240325T203000
DTSTAMP:20260422T213703
CREATED:20240210T185334Z
LAST-MODIFIED:20240210T185334Z
UID:5985-1711393200-1711398600@www.strahovica.si
SUMMARY:Odbojka
DESCRIPTION:
URL:https://www.strahovica.si/events/odbojka-5/
LOCATION:Vodice
ATTACH;FMTTYPE=image/jpeg:https://www.strahovica.si/wp-content/uploads/2022/11/index.jpg
END:VEVENT
END:VCALENDAR