BEGIN:VCALENDAR
VERSION:2.0
PRODID:-//Smučarsko dru&scaron;tvo STRAHOVICA - ECPv6.13.0//NONSGML v1.0//EN
CALSCALE:GREGORIAN
METHOD:PUBLISH
X-WR-CALNAME:Smučarsko dru&scaron;tvo STRAHOVICA
X-ORIGINAL-URL:https://www.strahovica.si
X-WR-CALDESC:Events for Smučarsko dru&scaron;tvo STRAHOVICA
REFRESH-INTERVAL;VALUE=DURATION:PT1H
X-Robots-Tag:noindex
X-PUBLISHED-TTL:PT1H
BEGIN:VTIMEZONE
TZID:Europe/Helsinki
BEGIN:DAYLIGHT
TZOFFSETFROM:+0200
TZOFFSETTO:+0300
TZNAME:EEST
DTSTART:20240331T010000
END:DAYLIGHT
BEGIN:STANDARD
TZOFFSETFROM:+0300
TZOFFSETTO:+0200
TZNAME:EET
DTSTART:20241027T010000
END:STANDARD
END:VTIMEZONE
BEGIN:VEVENT
DTSTART;TZID=Europe/Helsinki:20240805T073000
DTEND;TZID=Europe/Helsinki:20240809T163000
DTSTAMP:20260422T140343
CREATED:20240907T081619Z
LAST-MODIFIED:20240907T081619Z
UID:7015-1722843000-1723221000@www.strahovica.si
SUMMARY:Poletne dogodivščine s Strahci
DESCRIPTION:
URL:https://www.strahovica.si/events/poletne-dogodivscine-s-strahci/
LOCATION:Vodice
ATTACH;FMTTYPE=image/jpeg:https://www.strahovica.si/wp-content/uploads/2024/08/unnamed-35-scaled.jpg
END:VEVENT
BEGIN:VEVENT
DTSTART;TZID=Europe/Helsinki:20240812T073000
DTEND;TZID=Europe/Helsinki:20240814T163000
DTSTAMP:20260422T140343
CREATED:20240907T081836Z
LAST-MODIFIED:20240907T081836Z
UID:7017-1723447800-1723653000@www.strahovica.si
SUMMARY:Poletne dogodivščine s Strahci
DESCRIPTION:
URL:https://www.strahovica.si/events/poletne-dogodivscine-s-strahci-2/
LOCATION:Vodice
ATTACH;FMTTYPE=image/jpeg:https://www.strahovica.si/wp-content/uploads/2024/08/20240814_093012-scaled.jpg
END:VEVENT
BEGIN:VEVENT
DTSTART;TZID=Europe/Helsinki:20240826T073000
DTEND;TZID=Europe/Helsinki:20240830T163000
DTSTAMP:20260422T140343
CREATED:20240907T082215Z
LAST-MODIFIED:20240907T082257Z
UID:7020-1724657400-1725035400@www.strahovica.si
SUMMARY:Poletne dogodivščine s Strahci
DESCRIPTION:
URL:https://www.strahovica.si/events/poletne-dogodivscine-s-strahci-3/
LOCATION:Vodice
ATTACH;FMTTYPE=image/jpeg:https://www.strahovica.si/wp-content/uploads/2024/08/20240809_120321-scaled.jpg
END:VEVENT
END:VCALENDAR