BEGIN:VCALENDAR
VERSION:2.0
PRODID:-//Smučarsko dru&scaron;tvo STRAHOVICA - ECPv6.13.0//NONSGML v1.0//EN
CALSCALE:GREGORIAN
METHOD:PUBLISH
X-WR-CALNAME:Smučarsko dru&scaron;tvo STRAHOVICA
X-ORIGINAL-URL:https://www.strahovica.si
X-WR-CALDESC:Events for Smučarsko dru&scaron;tvo STRAHOVICA
REFRESH-INTERVAL;VALUE=DURATION:PT1H
X-Robots-Tag:noindex
X-PUBLISHED-TTL:PT1H
BEGIN:VTIMEZONE
TZID:Europe/Helsinki
BEGIN:DAYLIGHT
TZOFFSETFROM:+0200
TZOFFSETTO:+0300
TZNAME:EEST
DTSTART:20240331T010000
END:DAYLIGHT
BEGIN:STANDARD
TZOFFSETFROM:+0300
TZOFFSETTO:+0200
TZNAME:EET
DTSTART:20241027T010000
END:STANDARD
END:VTIMEZONE
BEGIN:VEVENT
DTSTART;TZID=Europe/Helsinki:20240907T080000
DTEND;TZID=Europe/Helsinki:20240907T190000
DTSTAMP:20260422T122917
CREATED:20240907T080411Z
LAST-MODIFIED:20240907T080411Z
UID:7009-1725696000-1725735600@www.strahovica.si
SUMMARY:XC Rašica in Kronometer na Rašico
DESCRIPTION:
URL:https://www.strahovica.si/events/xc-rasica-in-kronometer-na-rasico/
LOCATION:Vodice
ATTACH;FMTTYPE=image/jpeg:https://www.strahovica.si/wp-content/uploads/2024/08/XC-Rasica-2023-4177-2-scaled-1.jpg
END:VEVENT
END:VCALENDAR