BEGIN:VCALENDAR
VERSION:2.0
PRODID:-//Smučarsko dru&scaron;tvo STRAHOVICA - ECPv6.13.0//NONSGML v1.0//EN
CALSCALE:GREGORIAN
METHOD:PUBLISH
X-WR-CALNAME:Smučarsko dru&scaron;tvo STRAHOVICA
X-ORIGINAL-URL:https://www.strahovica.si
X-WR-CALDESC:Events for Smučarsko dru&scaron;tvo STRAHOVICA
REFRESH-INTERVAL;VALUE=DURATION:PT1H
X-Robots-Tag:noindex
X-PUBLISHED-TTL:PT1H
BEGIN:VTIMEZONE
TZID:Europe/Helsinki
BEGIN:DAYLIGHT
TZOFFSETFROM:+0200
TZOFFSETTO:+0300
TZNAME:EEST
DTSTART:20240331T010000
END:DAYLIGHT
BEGIN:STANDARD
TZOFFSETFROM:+0300
TZOFFSETTO:+0200
TZNAME:EET
DTSTART:20241027T010000
END:STANDARD
END:VTIMEZONE
BEGIN:VEVENT
DTSTART;TZID=Europe/Helsinki:20241130T080000
DTEND;TZID=Europe/Helsinki:20241201T170000
DTSTAMP:20260422T090344
CREATED:20240909T093906Z
LAST-MODIFIED:20240909T093906Z
UID:7024-1732953600-1733072400@www.strahovica.si
SUMMARY:Smučarski sejem
DESCRIPTION:
URL:https://www.strahovica.si/events/smucarski-sejem/
LOCATION:Osnovna šola Vodice\, Ob šoli 2\, V\, Slovenija
END:VEVENT
END:VCALENDAR