BEGIN:VCALENDAR
VERSION:2.0
PRODID:-//Smučarsko dru&scaron;tvo STRAHOVICA - ECPv6.13.0//NONSGML v1.0//EN
CALSCALE:GREGORIAN
METHOD:PUBLISH
X-ORIGINAL-URL:https://www.strahovica.si
X-WR-CALDESC:Events for Smučarsko dru&scaron;tvo STRAHOVICA
REFRESH-INTERVAL;VALUE=DURATION:PT1H
X-Robots-Tag:noindex
X-PUBLISHED-TTL:PT1H
BEGIN:VTIMEZONE
TZID:Europe/Helsinki
BEGIN:DAYLIGHT
TZOFFSETFROM:+0200
TZOFFSETTO:+0300
TZNAME:EEST
DTSTART:20250330T010000
END:DAYLIGHT
BEGIN:STANDARD
TZOFFSETFROM:+0300
TZOFFSETTO:+0200
TZNAME:EET
DTSTART:20251026T010000
END:STANDARD
END:VTIMEZONE
BEGIN:VEVENT
DTSTART;VALUE=DATE:20250308
DTEND;VALUE=DATE:20250309
DTSTAMP:20260422T020240
CREATED:20250215T114924Z
LAST-MODIFIED:20250215T114924Z
UID:7662-1741392000-1741478399@www.strahovica.si
SUMMARY:Gremo v Obertauern
DESCRIPTION:
URL:https://www.strahovica.si/events/gremo-v-obertauern/
LOCATION:obertauern
ATTACH;FMTTYPE=image/jpeg:https://www.strahovica.si/wp-content/uploads/2025/02/Obertauern-post-square-small-862x862-1.jpg
ORGANIZER;CN="Strahci Ski Team":MAILTO:tecaji@strahovica.si
END:VEVENT
END:VCALENDAR