BEGIN:VCALENDAR
VERSION:2.0
PRODID:-//Smučarsko dru&scaron;tvo STRAHOVICA - ECPv6.13.0//NONSGML v1.0//EN
CALSCALE:GREGORIAN
METHOD:PUBLISH
X-ORIGINAL-URL:https://www.strahovica.si
X-WR-CALDESC:Events for Smučarsko dru&scaron;tvo STRAHOVICA
REFRESH-INTERVAL;VALUE=DURATION:PT1H
X-Robots-Tag:noindex
X-PUBLISHED-TTL:PT1H
BEGIN:VTIMEZONE
TZID:Europe/Helsinki
BEGIN:DAYLIGHT
TZOFFSETFROM:+0200
TZOFFSETTO:+0300
TZNAME:EEST
DTSTART:20250330T010000
END:DAYLIGHT
BEGIN:STANDARD
TZOFFSETFROM:+0300
TZOFFSETTO:+0200
TZNAME:EET
DTSTART:20251026T010000
END:STANDARD
END:VTIMEZONE
BEGIN:VEVENT
DTSTART;TZID=Europe/Helsinki:20250406T083000
DTEND;TZID=Europe/Helsinki:20250406T160000
DTSTAMP:20260422T001832
CREATED:20250316T193503Z
LAST-MODIFIED:20250316T193503Z
UID:7906-1743928200-1743955200@www.strahovica.si
SUMMARY:Kolesarski sejem
DESCRIPTION:
URL:https://www.strahovica.si/events/kolesarski-sejem/
LOCATION:Osnovna šola Vodice\, Ob šoli 2\, V\, Slovenija
ATTACH;FMTTYPE=image/png:https://www.strahovica.si/wp-content/uploads/2024/03/sejem-2.png
END:VEVENT
END:VCALENDAR